BEGIN:VCALENDAR
PRODID:-//github.com/rianjs/ical.net//NONSGML ical.net 4.0//EN
VERSION:2.0
BEGIN:VEVENT
DESCRIPTION:Feierabendtouren in die nähere Umgebung\, Distanz 20 - 30 km\,
  oft mit Einkehr.\nhttps://touren-termine.adfc.de/radveranstaltung/187675
 -gilchinger-feierabendtour
DTEND:20260612T180000Z
DTSTAMP:20260425T145612Z
DTSTART:20260612T150000Z
LOCATION:Marktplatz\, 82205 Gilching
SEQUENCE:0
SUMMARY:Gilchinger Feierabendtour
UID:2aa93990-d493-43ca-957b-3144025b4cf5
URL:https://touren-termine.adfc.de/radveranstaltung/187675-gilchinger-feie
 rabendtour
END:VEVENT
END:VCALENDAR
