BEGIN:VCALENDAR
PRODID:-//github.com/rianjs/ical.net//NONSGML ical.net 4.0//EN
VERSION:2.0
BEGIN:VEVENT
DESCRIPTION:Die Jausenstation Backhaus schließt. Ein Tisch für 13.00 ist r
 eserviert. Sonne und Kälte wird erwartet. Winterliche Bereifung erforderl
 ich. Kurze Strecke. Anmeldung bis Freitag 17.00.\nhttps://touren-termine.
 adfc.de/radveranstaltung/176559-last-call-backhaus-pedelectour
DTEND:20251122T170000Z
DTSTAMP:20260422T234535Z
DTSTART:20251122T100000Z
LOCATION:Marburgerstraße\, Roter Platz\, 57223 Kreuztal
SEQUENCE:0
SUMMARY:Last Call Backhaus (Pedelectour)
UID:90d37f97-cf4e-4be7-baa1-21b495db247d
URL:https://touren-termine.adfc.de/radveranstaltung/176559-last-call-backh
 aus-pedelectour
END:VEVENT
END:VCALENDAR
