BEGIN:VCALENDAR
PRODID:-//github.com/rianjs/ical.net//NONSGML ical.net 4.0//EN
VERSION:2.0
BEGIN:VEVENT
DESCRIPTION:Öffentlicher Stammtisch des ADFC Kempten-Oberallgäu.\nhttps://
 touren-termine.adfc.de/radveranstaltung/104544-radlerstammtisch-in-kempte
 n
DTEND:20231116T203000Z
DTSTAMP:20260424T153443Z
DTSTART:20231116T190000Z
LOCATION:swoboda alpin\, 87439 Kempten (Allgäu)
SEQUENCE:0
SUMMARY:Radlerstammtisch in Kempten
UID:76506930-7449-4816-a60f-1d6469b8b4f7
URL:https://touren-termine.adfc.de/radveranstaltung/104544-radlerstammtisc
 h-in-kempten
END:VEVENT
END:VCALENDAR
