BEGIN:VCALENDAR
PRODID:-//github.com/rianjs/ical.net//NONSGML ical.net 4.0//EN
VERSION:2.0
BEGIN:VEVENT
DESCRIPTION:Vor dem Radlerstammtisch treffen sich die Aktiven und die Vors
 tandschaft.\nhttps://touren-termine.adfc.de/radveranstaltung/174093-aktiv
 entreff
DTEND:20260507T170000Z
DTSTAMP:20260419T155922Z
DTSTART:20260507T160000Z
LOCATION:Gasthaus Belfort\, Mindelheimer Straße 35\, 87600 Kaufbeuren
SEQUENCE:0
SUMMARY:Aktiventreff
UID:94470bc1-f880-4874-b3e1-6c84c954cc05
URL:https://touren-termine.adfc.de/radveranstaltung/174093-aktiventreff
END:VEVENT
END:VCALENDAR
