BEGIN:VCALENDAR
PRODID:-//github.com/rianjs/ical.net//NONSGML ical.net 4.0//EN
VERSION:2.0
BEGIN:VEVENT
DESCRIPTION:Unsere Geschäftsstelle ist für alle Anliegen und offenen Frage
 n geöffnet.\nhttps://touren-termine.adfc.de/radveranstaltung/183795-offnu
 ngszeit-unserer-geschaftsstelle
DTEND:20260227T170000Z
DTSTAMP:20260421T115931Z
DTSTART:20260227T150000Z
LOCATION:Essen (Innenstadt)\, ADFC Essen Geschäftsstelle\, Rottstraße 5\, 
 45127 Essen
SEQUENCE:0
SUMMARY:Öffnungszeit unserer Geschäftsstelle
UID:d7ec9164-206c-48e1-a370-15bacd97d55c
URL:https://touren-termine.adfc.de/radveranstaltung/183795-offnungszeit-un
 serer-geschaftsstelle
END:VEVENT
END:VCALENDAR
