BEGIN:VCALENDAR
PRODID:-//github.com/rianjs/ical.net//NONSGML ical.net 4.0//EN
VERSION:2.0
BEGIN:VEVENT
DESCRIPTION:Gosberg\, Kuhnreuth\, Weingarts\, Mittelehrenbach und Kirchehr
 enbach liegen auf unserer Radrunde\, auf der wir die Osterbrunnen bewunde
 rn können.\nhttps://touren-termine.adfc.de/radveranstaltung/144134-osterb
 runnentour
DTEND:20250418T150000Z
DTSTAMP:20260421T101253Z
DTSTART:20250418T083000Z
LOCATION:Nürnberger Tor\, 91301 Forchheim
SEQUENCE:0
SUMMARY:Osterbrunnentour
UID:010a793e-4147-44d8-b848-868b7525eefe
URL:https://touren-termine.adfc.de/radveranstaltung/144134-osterbrunnentour
END:VEVENT
END:VCALENDAR
