BEGIN:VCALENDAR
PRODID:-//github.com/rianjs/ical.net//NONSGML ical.net 4.0//EN
VERSION:2.0
BEGIN:VEVENT
DESCRIPTION:Monatliches Arbeitstreffen der Radverkehrsgruppe des ADFC Köln
  am letzten Mittwoch des Monats\nhttps://touren-termine.adfc.de/radverans
 taltung/183623-radverkehrsgruppe-adfc-koln
DTEND:20260128T193000Z
DTSTAMP:20260423T075951Z
DTSTART:20260128T180000Z
LOCATION:ADFC Köln\, Mauritiussteinweg 11\, 50676 Köln
SEQUENCE:0
SUMMARY:Radverkehrsgruppe ADFC Köln
UID:4567df09-a07e-4d49-9aea-7594c701876e
URL:https://touren-termine.adfc.de/radveranstaltung/183623-radverkehrsgrup
 pe-adfc-koln
END:VEVENT
END:VCALENDAR
