BEGIN:VCALENDAR
PRODID:-//github.com/rianjs/ical.net//NONSGML ical.net 4.0//EN
VERSION:2.0
BEGIN:VEVENT
DESCRIPTION:Wir codieren Fahrräder und Zubehör mit dem EIN Code. Die Codie
 rung findet zwischen 12 und 17 Uhr statt. codierung.adfc-siegen.de\nhttps
 ://touren-termine.adfc.de/radveranstaltung/198204-wollmarkt-codierung-inf
 ostand
DTEND:20260503T150000Z
DTSTAMP:20260423T030425Z
DTSTART:20260503T100000Z
LOCATION:Lehrerparkplatz Johannes Althusius Gymnasium\, Höhe Poststraße 42
 \, 57319 Bad Berleburg
SEQUENCE:0
SUMMARY:Wollmarkt: Codierung\, Infostand
UID:f0353801-46fb-45d9-87aa-5885f31bd414
URL:https://touren-termine.adfc.de/radveranstaltung/198204-wollmarkt-codie
 rung-infostand
END:VEVENT
END:VCALENDAR
