BEGIN:VCALENDAR
PRODID:-//github.com/rianjs/ical.net//NONSGML ical.net 4.0//EN
VERSION:2.0
BEGIN:VEVENT
DESCRIPTION:Wir schauen uns in Refrath die "Lichterketten" an\, dh. die Li
 chtanimationen\nhttps://touren-termine.adfc.de/radveranstaltung/178535-li
 chterfest-in-refrath
DTEND:20251205T170000Z
DTSTAMP:20260423T151932Z
DTSTART:20251205T150000Z
LOCATION:Peter-Bürling-Platz (Spielplatz)\, 51427 Bergisch Gladbach
SEQUENCE:0
SUMMARY:Lichterfest in Refrath
UID:6a57acd7-6296-485c-a80e-bf571b395e4c
URL:https://touren-termine.adfc.de/radveranstaltung/178535-lichterfest-in-
 refrath
END:VEVENT
END:VCALENDAR
