BEGIN:VCALENDAR
PRODID:-//github.com/rianjs/ical.net//NONSGML ical.net 4.0//EN
VERSION:2.0
BEGIN:VEVENT
DESCRIPTION:Feierabendtour ins  Blaue! Wohin\, steht noch nicht genau fest
 . Es geht ca. 30 km auch über unbefestigte Waldwege.\nhttps://touren-term
 ine.adfc.de/radveranstaltung/130146-feierabendtour-ins-blaue
DTEND:20240409T180000Z
DTSTAMP:20260423T031045Z
DTSTART:20240409T160000Z
LOCATION:Bad Berleburg Bahnhof\, 57319 Bad Berleburg
SEQUENCE:0
SUMMARY:Feierabendtour ins Blaue
UID:047bfa9f-3824-4f30-afd2-e2a1a182af5c
URL:https://touren-termine.adfc.de/radveranstaltung/130146-feierabendtour-
 ins-blaue
END:VEVENT
END:VCALENDAR
