BEGIN:VCALENDAR
PRODID:-//github.com/rianjs/ical.net//NONSGML ical.net 4.0//EN
VERSION:2.0
BEGIN:VEVENT
DESCRIPTION:Es wird ca. 2 Stunden rund um Rotenburg geradelt.\nNach der To
 ur ist eine Einkehr vorgesehen.\nhttps://touren-termine.adfc.de/radverans
 taltung/198643-feierabendtour
DTEND:20260508T180000Z
DTSTAMP:20260423T165402Z
DTSTART:20260508T160000Z
LOCATION:Rathaus\, 27356 Rotenburg
SEQUENCE:0
SUMMARY:Feierabendtour
UID:d9a10586-d883-49e9-a3d5-ad5e58a52b99
URL:https://touren-termine.adfc.de/radveranstaltung/198643-feierabendtour
END:VEVENT
END:VCALENDAR
