BEGIN:VCALENDAR
PRODID:-//github.com/rianjs/ical.net//NONSGML ical.net 4.0//EN
VERSION:2.0
BEGIN:VEVENT
DESCRIPTION:Wir laden alle Mitglieder der Ortsgruppe Renningen - Rutesheim
  - Weil der Stadt zur jährlichen Mitgliederversammlung ein. Wir berichten
  über das Erreichte und sprechen über die zukünftige Ausrichtung.\nhttps:
 //touren-termine.adfc.de/radveranstaltung/191253-jahresmitgliederversamml
 ung
DTEND:20260618T190000Z
DTSTAMP:20260424T002758Z
DTSTART:20260618T170000Z
LOCATION:Vereinsraum im Bürgerhaus\, Jahnstraße 20\, 71272 Renningen
SEQUENCE:0
SUMMARY:Jahres-Mitgliederversammlung
UID:d6d15f0f-c736-4caa-8b9e-da992425053a
URL:https://touren-termine.adfc.de/radveranstaltung/191253-jahresmitgliede
 rversammlung
END:VEVENT
END:VCALENDAR
