BEGIN:VCALENDAR
PRODID:-//github.com/rianjs/ical.net//NONSGML ical.net 4.0//EN
VERSION:2.0
BEGIN:VEVENT
DESCRIPTION:Der Wildwald in Voßwinkel ist das Ziel einer Fahrradtour am Sa
 mstag den 16.09.2023\, die von dem ADFC Tourguide Dieter Aulich geführt w
 ird.\nhttps://touren-termine.adfc.de/radveranstaltung/106563-auf-zum-wild
 wald-nach-vosswinkel
DTEND:20230916T130000Z
DTSTAMP:20260424T193617Z
DTSTART:20230916T080000Z
LOCATION:Iserlohn-Barendorf\, 58636 Iserlohn
SEQUENCE:0
SUMMARY:Auf zum Wildwald nach Vosswinkel
UID:bedebd78-0f2e-41f1-8b16-3abe7c07901e
URL:https://touren-termine.adfc.de/radveranstaltung/106563-auf-zum-wildwal
 d-nach-vosswinkel
END:VEVENT
END:VCALENDAR
