BEGIN:VCALENDAR
PRODID:-//github.com/rianjs/ical.net//NONSGML ical.net 4.0//EN
VERSION:2.0
BEGIN:VEVENT
DESCRIPTION:Von Bad Cannstatt parallel zum Neckar auf der Höhe bis Essling
 en und dann auf der anderen Seite ebenfalls auf der Höhe zurück zum Schlo
 ssplatz\nhttps://touren-termine.adfc.de/radveranstaltung/190008-von-bad-c
 annstatt-zum-schlossplatz
DTEND:20260226T150000Z
DTSTAMP:20260424T144613Z
DTSTART:20260226T090000Z
LOCATION:Kegelenstraße 12\, 70372 Stuttgart
SEQUENCE:0
SUMMARY:Von Bad Cannstatt zum Schlossplatz
UID:cd8a1342-ff64-48e5-94d4-46e22542d640
URL:https://touren-termine.adfc.de/radveranstaltung/190008-von-bad-cannsta
 tt-zum-schlossplatz
END:VEVENT
END:VCALENDAR
