BEGIN:VCALENDAR
PRODID:-//github.com/rianjs/ical.net//NONSGML ical.net 4.0//EN
VERSION:2.0
BEGIN:VEVENT
DESCRIPTION:S T A R T:   8 Uhr ab Umweltzentrum (Draisine 4)\nhttps://tour
 en-termine.adfc.de/radveranstaltung/181858-fahrradsternfahrt-hamburg
DTEND:20260621T160000Z
DTSTAMP:20260423T181133Z
DTSTART:20260621T060000Z
LOCATION:Draisine 4\, 25524 Itzehoe
SEQUENCE:0
SUMMARY:Fahrradsternfahrt Hamburg
UID:859415ab-a143-47d9-ba16-c092022a780f
URL:https://touren-termine.adfc.de/radveranstaltung/181858-fahrradsternfah
 rt-hamburg
END:VEVENT
END:VCALENDAR
