BEGIN:VCALENDAR
PRODID:-//github.com/rianjs/ical.net//NONSGML ical.net 4.0//EN
VERSION:2.0
BEGIN:VEVENT
DESCRIPTION:Gemeinsam radeln wir bei mit der Sternchenfahrt an der U-Bahn 
 Lattenkamp im Kinder-Tempo zur Abschlusskundgebung der Sternfahrt am Jung
 fernstieg.\nhttps://touren-termine.adfc.de/radveranstaltung/167971-sternc
 henfahrt-fahrradsternfahrt-fur-kinder
DTEND:20250622T130000Z
DTSTAMP:20260420T232331Z
DTSTART:20250622T114000Z
LOCATION:Bebelallee\, 22299 Hamburg
SEQUENCE:0
SUMMARY:Sternchenfahrt - Fahrradsternfahrt für Kinder
UID:483fd3af-d0bd-4680-ae05-42ebf9dcd173
URL:https://touren-termine.adfc.de/radveranstaltung/167971-sternchenfahrt-
 fahrradsternfahrt-fur-kinder
END:VEVENT
END:VCALENDAR
