BEGIN:VCALENDAR
PRODID:-//github.com/rianjs/ical.net//NONSGML ical.net 4.0//EN
VERSION:2.0
BEGIN:VEVENT
DESCRIPTION:Offener Radelstammtisch der ADFC-Ortsgruppe Bad Berleburg\nhtt
 ps://touren-termine.adfc.de/radveranstaltung/170792-radelstammtisch-bad-b
 erleburg
DTEND:20251028T200000Z
DTSTAMP:20260423T030926Z
DTSTART:20251028T180000Z
LOCATION:Alte Landratsvilla\, Poststraße 40\, 57319 Bad Berleburg
SEQUENCE:0
SUMMARY:Radelstammtisch Bad Berleburg
UID:8408aa55-db06-4788-9f00-f04411c1648f
URL:https://touren-termine.adfc.de/radveranstaltung/170792-radelstammtisch
 -bad-berleburg
END:VEVENT
END:VCALENDAR
