BEGIN:VCALENDAR
PRODID:-//github.com/rianjs/ical.net//NONSGML ical.net 4.0//EN
VERSION:2.0
BEGIN:VEVENT
DESCRIPTION:ca. 65 km\, Start: Fanraute im BorussiaPark\, 27.08.2023\, 09:
 30 Uhr.\nhttps://touren-termine.adfc.de/radveranstaltung/105878-nordpark-
 boisheim-netteseen-nordpark
DTEND:20230827T140000Z
DTSTAMP:20260420T232951Z
DTSTART:20230827T073000Z
LOCATION:Dr.-Adalbert-Jordan-Straße\, 41179 Mönchengladbach
SEQUENCE:0
SUMMARY:Nordpark - Boisheim - Netteseen - Nordpark
UID:3247314e-d04e-491b-85ae-ec6879e6ae1a
URL:https://touren-termine.adfc.de/radveranstaltung/105878-nordpark-boishe
 im-netteseen-nordpark
END:VEVENT
END:VCALENDAR
