BEGIN:VCALENDAR
PRODID:-//github.com/rianjs/ical.net//NONSGML ical.net 4.0//EN
VERSION:2.0
BEGIN:VEVENT
DESCRIPTION:Beim heutigen Radlertreff stellt uns Peter Hopfe vom ADFC Komo
 ot vor. Was das Programm kann\, wie man Touren effektiv plant etc. sind G
 egenstand der Schulung. Fragen zu Eurenm spez. Problem sind au\nhttps://t
 ouren-termine.adfc.de/radveranstaltung/157873-radlertreff-solingen-marz-k
 omootnutzung
DTEND:20250311T200000Z
DTSTAMP:20260421T172637Z
DTSTART:20250311T183000Z
LOCATION:Locher Straße 17\, 42719 Solingen
SEQUENCE:0
SUMMARY:Radlertreff Solingen - März Komootnutzung
UID:87967ab0-4fc5-4f0b-8c6c-cae3fd26af90
URL:https://touren-termine.adfc.de/radveranstaltung/157873-radlertreff-sol
 ingen-marz-komootnutzung
END:VEVENT
END:VCALENDAR
