BEGIN:VCALENDAR
PRODID:-//github.com/rianjs/ical.net//NONSGML ical.net 4.0//EN
VERSION:2.0
BEGIN:VEVENT
DESCRIPTION:Beim heutigen Radlertreff gibt uns Frau Seyfried als Stadtdien
 stleiterin für Planung\, Mobilität und Denkmalpflege u.a. Einblick in den
  aktuellen Stand zum IMKS (Integrierten Mobilitätskonzept).\nhttps://tour
 en-termine.adfc.de/radveranstaltung/151382-radlertreff-solingen-februar-m
 it-frau-seyfried
DTEND:20250211T200000Z
DTSTAMP:20260421T172637Z
DTSTART:20250211T183000Z
LOCATION:Locher Straße 17\, 42719 Solingen
SEQUENCE:0
SUMMARY:Radlertreff Solingen - Februar mit Frau Seyfried
UID:1a4b2d76-320e-48be-a0a0-beaa382a9c81
URL:https://touren-termine.adfc.de/radveranstaltung/151382-radlertreff-sol
 ingen-februar-mit-frau-seyfried
END:VEVENT
END:VCALENDAR
