BEGIN:VCALENDAR
PRODID:-//github.com/rianjs/ical.net//NONSGML ical.net 4.0//EN
VERSION:2.0
BEGIN:VEVENT
DESCRIPTION:Stadtradeln 2025 (SR25) 20 x 20 km\nVon Hof zu Hof\nTour 13 vo
 n 20\nhttps://touren-termine.adfc.de/radveranstaltung/165814-sr25t1324kmh
 ofzuhof-1000-1300-uhr
DTEND:20250531T110000Z
DTSTAMP:20260423T110025Z
DTSTART:20250531T080000Z
LOCATION:Fuhrberger Straße 4\, 30938 Burgwedel
SEQUENCE:0
SUMMARY:SR25-T13_24_km_Hof_zu_Hof 10:00 - 13:00 Uhr
UID:0130e2d2-012c-43af-a41c-8b354326d579
URL:https://touren-termine.adfc.de/radveranstaltung/165814-sr25t1324kmhofz
 uhof-1000-1300-uhr
END:VEVENT
END:VCALENDAR
