BEGIN:VCALENDAR
PRODID:-//github.com/rianjs/ical.net//NONSGML ical.net 4.0//EN
VERSION:2.0
BEGIN:VEVENT
DESCRIPTION:Magisch. Mysteriös. Überraschend.\nGemeinsame Tour von der Sta
 dtbücherei Herborn\, Marketing Herborn und dem ADFC Dill e.V..\nhttps://t
 ouren-termine.adfc.de/radveranstaltung/169041-literadtour-lost-dark-place
 s-westerwald-25
DTEND:20250920T140000Z
DTSTAMP:20260424T170535Z
DTSTART:20250920T084500Z
LOCATION:Penny Markt Mademühlen\, Rotdornstraße\, 35759 Lahn-Dill-Kreis
SEQUENCE:0
SUMMARY:LiteRADtour „Lost & Dark Places Westerwald“ 25
UID:fb4fd3a1-0e41-4fad-ab67-9828a4f75f02
URL:https://touren-termine.adfc.de/radveranstaltung/169041-literadtour-los
 t-dark-places-westerwald-25
END:VEVENT
END:VCALENDAR
