BEGIN:VCALENDAR
PRODID:-//github.com/rianjs/ical.net//NONSGML ical.net 4.0//EN
VERSION:2.0
BEGIN:VEVENT
DESCRIPTION:Feierabendtouren in die nähere Umgebung\, Distanz 20 - 30 km\,
  oft mit Einkehr.\nhttps://touren-termine.adfc.de/radveranstaltung/187683
 -gilchinger-feierabendtour
DTEND:20260807T180000Z
DTSTAMP:20260425T145730Z
DTSTART:20260807T150000Z
LOCATION:Marktplatz\, 82205 Gilching
SEQUENCE:0
SUMMARY:Gilchinger Feierabendtour
UID:ecf4aba5-eb61-4d01-a0d9-8e627289cca2
URL:https://touren-termine.adfc.de/radveranstaltung/187683-gilchinger-feie
 rabendtour
END:VEVENT
END:VCALENDAR
