BEGIN:VCALENDAR
PRODID:-//github.com/rianjs/ical.net//NONSGML ical.net 4.0//EN
VERSION:2.0
BEGIN:VEVENT
DESCRIPTION:Dienstags & Donnerstags zwischen 18:00 und 20:00 Uhr kann dort
  jeder\, sein Fahrrad eigenverantwortlich selbst reparieren - wenn nötig 
 unter Anleitung oder Mithilfe unsere Werkstattteams\nhttps://touren-termi
 ne.adfc.de/radveranstaltung/175983-selbsthilfewerkstatt-ist-geoffnet
DTEND:20260618T180000Z
DTSTAMP:20260424T151332Z
DTSTART:20260618T160000Z
LOCATION:Weinweg 2\, 93049 Regensburg
SEQUENCE:0
SUMMARY:Selbsthilfewerkstatt ist geöffnet
UID:03537446-4444-427d-9c50-8b2480a58cdf
URL:https://touren-termine.adfc.de/radveranstaltung/175983-selbsthilfewerk
 statt-ist-geoffnet
END:VEVENT
END:VCALENDAR
