BEGIN:VCALENDAR
PRODID:-//github.com/rianjs/ical.net//NONSGML ical.net 4.0//EN
VERSION:2.0
BEGIN:VEVENT
DESCRIPTION:Winter-Überraschungstour\nhttps://touren-termine.adfc.de/radve
 ranstaltung/141652-winteruberraschungstour
DTEND:20250111T150000Z
DTSTAMP:20260422T165826Z
DTSTART:20250111T110000Z
LOCATION:Vinckestraße 1 ADFC-Büro\, 32423 Minden
SEQUENCE:0
SUMMARY:Winter-Überraschungstour
UID:e4abd99f-1e7b-48d7-96e9-ba2a9d535bc8
URL:https://touren-termine.adfc.de/radveranstaltung/141652-winteruberrasch
 ungstour
END:VEVENT
END:VCALENDAR
