BEGIN:VCALENDAR
PRODID:-//github.com/rianjs/ical.net//NONSGML ical.net 4.0//EN
VERSION:2.0
BEGIN:VEVENT
DESCRIPTION:Feierabendtouren in die nähere Umgebung\, Distanz 20 - 30 km\,
  oft mit Einkehr.\nhttps://touren-termine.adfc.de/radveranstaltung/116327
 -gilchinger-feierabendtour
DTEND:20240524T180000Z
DTSTAMP:20260425T150050Z
DTSTART:20240524T150000Z
LOCATION:Marktplatz\, 82205 Gilching
SEQUENCE:0
SUMMARY:Gilchinger Feierabendtour
UID:40952e5a-8f73-46ec-9940-9a330b0b945e
URL:https://touren-termine.adfc.de/radveranstaltung/116327-gilchinger-feie
 rabendtour
END:VEVENT
END:VCALENDAR
