BEGIN:VCALENDAR
PRODID:-//github.com/rianjs/ical.net//NONSGML ical.net 4.0//EN
VERSION:2.0
BEGIN:VEVENT
DESCRIPTION:Treffpunkt: 10:00 Uhr Mellendorf\, Wedemark Str. 85. 10:20 Uhr
  Bissendorf Isernhägener Damm/Burgwedeler Str. Tourenleiter Otto Pschera\
 nhttps://touren-termine.adfc.de/radveranstaltung/170064--sonntagstour-zum
 -altwarmbuchener-moor
DTEND:20250810T150000Z
DTSTAMP:20260422T165821Z
DTSTART:20250810T080000Z
LOCATION:Wedemarkstraße 85\, 30900 Wedemark
SEQUENCE:0
SUMMARY: Sonntagstour zum  Altwarmbüchener Moor
UID:6264844d-35af-48a5-82a7-cd56abf49f0f
URL:https://touren-termine.adfc.de/radveranstaltung/170064--sonntagstour-z
 um-altwarmbuchener-moor
END:VEVENT
END:VCALENDAR
