BEGIN:VCALENDAR
PRODID:-//github.com/rianjs/ical.net//NONSGML ical.net 4.0//EN
VERSION:2.0
BEGIN:VEVENT
DESCRIPTION:Überquerung der Leverkusener Rheinbrücke und Fahrt zum Worring
 er Bruch. Hier erfolgt die Erläuterung von Herrn Reinhold Kappenstein zu 
 unseren einheimischen Vögeln.\nhttps://touren-termine.adfc.de/radveransta
 ltung/198035-vogelstimmenexkursion-im-worringer-bruch
DTEND:20260512T150000Z
DTSTAMP:20260421T115513Z
DTSTART:20260512T080000Z
LOCATION:Tannenbergstraße\, unter der Stelzenautobahn\, 51373 Leverkusen
SEQUENCE:0
SUMMARY:Vogelstimmenexkursion im Worringer Bruch
UID:13318974-f6c6-4cee-8cbe-8ef1509c02fb
URL:https://touren-termine.adfc.de/radveranstaltung/198035-vogelstimmenexk
 ursion-im-worringer-bruch
END:VEVENT
END:VCALENDAR
