BEGIN:VCALENDAR
PRODID:-//github.com/rianjs/ical.net//NONSGML ical.net 4.0//EN
VERSION:2.0
BEGIN:VEVENT
DESCRIPTION:Von Holweide entspannt ins Grüne\nhttps://touren-termine.adfc.
 de/radveranstaltung/197179-feierabendtour-rechtsrheinisch
DTEND:20260625T190000Z
DTSTAMP:20260423T012406Z
DTSTART:20260625T170000Z
LOCATION:Haltestelle Vischeringstraße\, vor dem Kiosk\, 51067 Köln
SEQUENCE:0
SUMMARY:Feierabendtour rechtsrheinisch
UID:fae5b2ef-1230-4a74-a162-690dcc5099f5
URL:https://touren-termine.adfc.de/radveranstaltung/197179-feierabendtour-
 rechtsrheinisch
END:VEVENT
END:VCALENDAR
