BEGIN:VCALENDAR
PRODID:-//github.com/rianjs/ical.net//NONSGML ical.net 4.0//EN
VERSION:2.0
BEGIN:VEVENT
DESCRIPTION:Du willst die Radfahrsituation in Korschenbroich verbessern? D
 ann bist du hier richtig.\nhttps://touren-termine.adfc.de/radveranstaltun
 g/163553-arbeitskreis-mobilitat-und-sicherheit
DTEND:20250821T183000Z
DTSTAMP:20260423T151754Z
DTSTART:20250821T163000Z
LOCATION:Otten-Scheune\, Mühlenstraße 3-5\, 41352 Korschenbroich\, 41352 K
 orschenbroich
SEQUENCE:0
SUMMARY:Arbeitskreis Mobilität und Sicherheit
UID:48829b1e-bb40-4c70-a031-6a15e15a5b65
URL:https://touren-termine.adfc.de/radveranstaltung/163553-arbeitskreis-mo
 bilitat-und-sicherheit
END:VEVENT
END:VCALENDAR
