BEGIN:VCALENDAR
PRODID:-//github.com/rianjs/ical.net//NONSGML ical.net 4.0//EN
VERSION:2.0
BEGIN:VEVENT
DESCRIPTION:Radtour nach Billerbeck\,  Radtour mit Aufenthalt auf dem Stad
 tfest und Berkelfestival in Billerbeck.....  Hin-und Rückweg ca. 40 Km\nh
 ttps://touren-termine.adfc.de/radveranstaltung/139080-radtour-zum-stadtfe
 st-nach-billerbeck
DTEND:20240915T140000Z
DTSTAMP:20260419T233558Z
DTSTART:20240915T080000Z
LOCATION:Markt 8\, 48653 Coesfeld
SEQUENCE:0
SUMMARY:Radtour zum Stadtfest nach Billerbeck
UID:a360009e-6746-4a7f-9ec7-82a716bda355
URL:https://touren-termine.adfc.de/radveranstaltung/139080-radtour-zum-sta
 dtfest-nach-billerbeck
END:VEVENT
END:VCALENDAR
