BEGIN:VCALENDAR
PRODID:-//github.com/rianjs/ical.net//NONSGML ical.net 4.0//EN
VERSION:2.0
BEGIN:VEVENT
DESCRIPTION:Über den Golden Spiegel\, am Gallenberg vorbei\, zum Aussichts
 turm Rabenhain. Um den Weidenauer Giersberg herum zurück zum Scheinerplat
 z und zum Stammtisch. 50% gute unbefestigte Waldwege. Sonst Straße.\nhttp
 s://touren-termine.adfc.de/radveranstaltung/135030-feierabendtour-siegen-
 zum-rabenhain
DTEND:20240806T173000Z
DTSTAMP:20260422T234554Z
DTSTART:20240806T160000Z
LOCATION:Jakob-Scheiner-Platz\, 57072 Siegen
SEQUENCE:0
SUMMARY:Feierabendtour Siegen: Zum Rabenhain
UID:203713dd-0e89-4a49-926c-2d7238f1a3b6
URL:https://touren-termine.adfc.de/radveranstaltung/135030-feierabendtour-
 siegen-zum-rabenhain
END:VEVENT
END:VCALENDAR
