BEGIN:VCALENDAR
PRODID:-//github.com/rianjs/ical.net//NONSGML ical.net 4.0//EN
VERSION:2.0
BEGIN:VEVENT
DESCRIPTION:Wir radeln in das Leinleitertal nach Veilbronn. Im Naturfreund
 ehaus\, 60m oberhalb der Ortschaft\, kehren wir ein. Heimwärts gehts über
  das Wiesental zurück.\nhttps://touren-termine.adfc.de/radveranstaltung/1
 43086-zum-naturfreundehaus-nach-veilbronn
DTEND:20250928T150000Z
DTSTAMP:20260421T102623Z
DTSTART:20250928T083000Z
LOCATION:Nürnberger Tor\, 91301 Forchheim
SEQUENCE:0
SUMMARY:Zum Naturfreundehaus nach Veilbronn
UID:7daa0327-ec32-47e3-be4f-cb40d7e088d6
URL:https://touren-termine.adfc.de/radveranstaltung/143086-zum-naturfreund
 ehaus-nach-veilbronn
END:VEVENT
END:VCALENDAR
