BEGIN:VCALENDAR
PRODID:-//github.com/rianjs/ical.net//NONSGML ical.net 4.0//EN
VERSION:2.0
BEGIN:VEVENT
DESCRIPTION:Dieses Angebot passt zu allen\, die nach einem Arbeitstag sich
  nochmal auslüften wollen\, die Lungen mit frischer Luft tanken und/oder 
 einfach ein bis zwei Stunden Bewegung benötigen.\nhttps://touren-termine.
 adfc.de/radveranstaltung/124784--alle-wege-fuhren-um-katzwang-feierabendr
 adtour
DTEND:20240723T174500Z
DTSTAMP:20260425T172355Z
DTSTART:20240723T161500Z
LOCATION:Lindenplatz\, 90455 Nürnberg
SEQUENCE:0
SUMMARY: Alle Wege führen um Katzwang - Feierabendradtour
UID:45a4e04d-4802-459b-8e86-44e1e8f11a20
URL:https://touren-termine.adfc.de/radveranstaltung/124784--alle-wege-fuhr
 en-um-katzwang-feierabendradtour
END:VEVENT
END:VCALENDAR
