BEGIN:VCALENDAR
PRODID:-//github.com/rianjs/ical.net//NONSGML ical.net 4.0//EN
VERSION:2.0
BEGIN:VEVENT
DESCRIPTION:Zur Einstimmung auf den Stammtisch radeln wir eine gemütliche 
 Runde.\nhttps://touren-termine.adfc.de/radveranstaltung/197069-radeln-zum
 -adfc-fahrrad-stammtisch
DTEND:20260421T153000Z
DTSTAMP:20260422T202718Z
DTSTART:20260421T133000Z
LOCATION:Kanzlers Weide Glacisbrücke\, 32423 Minden
SEQUENCE:0
SUMMARY:Radeln zum adfc Fahrrad Stammtisch
UID:2bbb6413-1594-448d-a661-b3513b1cdd82
URL:https://touren-termine.adfc.de/radveranstaltung/197069-radeln-zum-adfc
 -fahrrad-stammtisch
END:VEVENT
END:VCALENDAR
