BEGIN:VCALENDAR
PRODID:-//github.com/rianjs/ical.net//NONSGML ical.net 4.0//EN
VERSION:2.0
BEGIN:VEVENT
DESCRIPTION:ca. 45 km\, 16-18 km/h\, Start: Fanraute im BorussiaPark\, 15.
 06.2024\, 10:00 Uhr. Vom Nordpark über Waldniel/Amern nach Brüggen (Einke
 hrmöglichkeit) und entlang der Schwalm zurück nach Rheydt.\nhttps://toure
 n-termine.adfc.de/radveranstaltung/118353-nordparkwaldnielamernbruggensch
 walmnordpark
DTEND:20240615T120000Z
DTSTAMP:20260420T232149Z
DTSTART:20240615T080000Z
LOCATION:Dr.-Adalbert-Jordan-Straße\, 41179 Mönchengladbach
SEQUENCE:0
SUMMARY:Nordpark-Waldniel/Amern-Brüggen-Schwalm-Nordpark
UID:b22bc118-2caf-4f52-82c7-494114b755b9
URL:https://touren-termine.adfc.de/radveranstaltung/118353-nordparkwaldnie
 lamernbruggenschwalmnordpark
END:VEVENT
END:VCALENDAR
