BEGIN:VCALENDAR
PRODID:-//github.com/rianjs/ical.net//NONSGML ical.net 4.0//EN
VERSION:2.0
BEGIN:VEVENT
DESCRIPTION:Über Girkhausen nach Winterberg\, zurück über Bahnradweg und d
 en Ederauenradweg. Mehrere Pausen und Einkehr. Anspruchsvolle Tour. Für P
 edelecs und geübte Fahrer*innen. Anmeldung erforderlich.\nhttps://touren-
 termine.adfc.de/radveranstaltung/152506-lange-mittsommertour
DTEND:20250621T190000Z
DTSTAMP:20260423T062848Z
DTSTART:20250621T070000Z
LOCATION:Bahnhofstraße 1\, Bahnhofsvorplatz\, 57319 Bad Berleburg
SEQUENCE:0
SUMMARY:Lange Mittsommer-Tour
UID:7538013f-c3da-4726-9efa-064d4e6dd654
URL:https://touren-termine.adfc.de/radveranstaltung/152506-lange-mittsomme
 rtour
END:VEVENT
END:VCALENDAR
