BEGIN:VCALENDAR
PRODID:-//github.com/rianjs/ical.net//NONSGML ical.net 4.0//EN
VERSION:2.0
BEGIN:VEVENT
DESCRIPTION:Kirwa ist in Rohrbach. Im Vilstal unweit von Kallmünz gelegen.
 \nhttps://touren-termine.adfc.de/radveranstaltung/88276-auf-zur-kirwa-nac
 h-rohrbach
DTEND:20230910T150000Z
DTSTAMP:20260424T151412Z
DTSTART:20230910T080000Z
LOCATION:Prüfeninger Schloßstraße\, 93051 Regensburg
SEQUENCE:0
SUMMARY:Auf zur Kirwa nach Rohrbach
UID:c187e669-a8bb-4579-a1ba-274cd826f7d0
URL:https://touren-termine.adfc.de/radveranstaltung/88276-auf-zur-kirwa-na
 ch-rohrbach
END:VEVENT
END:VCALENDAR
