BEGIN:VCALENDAR
PRODID:-//github.com/rianjs/ical.net//NONSGML ical.net 4.0//EN
VERSION:2.0
BEGIN:VEVENT
DESCRIPTION:Fahrradprotest\, der für bessere Radverkehrsbedingungen und ei
 ne stärke Berücksichtigung des Radverkehrs durch Politik\, Verwaltung und
  andere Verkehrsteilnehmende wirbt. Radelt mit!\nhttps://touren-termine.a
 dfc.de/radveranstaltung/130513-critical-mass
DTEND:20240702T171500Z
DTSTAMP:20260425T043204Z
DTSTART:20240702T160000Z
LOCATION:Holzmarkt\, 07743 Jena
SEQUENCE:0
SUMMARY:Critical Mass
UID:a132185d-b170-4f6b-8758-649e9da6aeff
URL:https://touren-termine.adfc.de/radveranstaltung/130513-critical-mass
END:VEVENT
END:VCALENDAR
