BEGIN:VCALENDAR
PRODID:-//github.com/rianjs/ical.net//NONSGML ical.net 4.0//EN
VERSION:2.0
BEGIN:VEVENT
DESCRIPTION:Wir radeln von Senftenberg über Welzow\, Spremberg bis nach Co
 ttbus. Unser Weg führt uns durch Wälder\, an Seen\, Flüssen vorbei. Anmel
 deschluss: 20. Juni\, 2025 18:00 Uhr\nhttps://touren-termine.adfc.de/radv
 eranstaltung/150616-von-senftenberg-uber-die-talsperre-bis-cottbus
DTEND:20250621T180000Z
DTSTAMP:20260421T233334Z
DTSTART:20250621T060000Z
LOCATION:Bhf. Berlin-Charlottenburg\, Halle\, 10623 Berlin
SEQUENCE:0
SUMMARY:Von Senftenberg über die Talsperre bis Cottbus
UID:facd87c8-fd1f-4861-a64b-fb9260bd420e
URL:https://touren-termine.adfc.de/radveranstaltung/150616-von-senftenberg
 -uber-die-talsperre-bis-cottbus
END:VEVENT
END:VCALENDAR
