BEGIN:VCALENDAR
PRODID:-//github.com/rianjs/ical.net//NONSGML ical.net 4.0//EN
VERSION:2.0
BEGIN:VEVENT
DESCRIPTION:Wir beschäftigen uns mit der Verkehrsplanung im Bezirk Mitte u
 nd setzten uns dabei für den Radverkehr ein.\nhttps://touren-termine.adfc
 .de/radveranstaltung/100090-bezirksgruppe-mitte
DTEND:20230605T190000Z
DTSTAMP:20260420T230821Z
DTSTART:20230605T173000Z
LOCATION:Koppel 34-36\, 20099 Hamburg
SEQUENCE:0
SUMMARY:Bezirksgruppe Mitte
UID:589a02b0-4369-4092-902e-a94383668e5a
URL:https://touren-termine.adfc.de/radveranstaltung/100090-bezirksgruppe-m
 itte
END:VEVENT
END:VCALENDAR
