BEGIN:VCALENDAR
PRODID:-//github.com/rianjs/ical.net//NONSGML ical.net 4.0//EN
VERSION:2.0
BEGIN:VEVENT
DESCRIPTION:Ein weiteres Mal müssen wir einem Radfahrer gedenken\, der nac
 h einem Verkehrsunfall ums Leben gekommen ist.\nhttps://touren-termine.ad
 fc.de/radveranstaltung/110831-visionzerodemo-geisterradmahnwache-lichtenb
 erg
DTEND:20231120T183000Z
DTSTAMP:20260421T233504Z
DTSTART:20231120T154500Z
LOCATION:Möckernstraße 47\, 10963 Berlin
SEQUENCE:0
SUMMARY:VisionZero-Demo & Geisterrad-Mahnwache Lichtenberg
UID:738d7d80-b366-428c-8937-b9d021a8cea5
URL:https://touren-termine.adfc.de/radveranstaltung/110831-visionzerodemo-
 geisterradmahnwache-lichtenberg
END:VEVENT
END:VCALENDAR
