BEGIN:VCALENDAR
PRODID:-//github.com/rianjs/ical.net//NONSGML ical.net 4.0//EN
VERSION:2.0
BEGIN:VEVENT
DESCRIPTION:Niemand ist perfekt\, das Radwegesystem in Cuxhaven schon gar 
 nicht!\nWir unterhalten uns über alle Dinge rund ums Fahrrad und nehmen W
 ünsche und Anregungen an.\nhttps://touren-termine.adfc.de/radveranstaltun
 g/142244-kaffeestunde
DTEND:20250407T150000Z
DTSTAMP:20260421T021353Z
DTSTART:20250407T130000Z
LOCATION:Bürgerbahnhof\, Am Bahnhof 1\, 27472 Cuxhaven
SEQUENCE:0
SUMMARY:Kaffeestunde
UID:efb77843-8b1d-4946-b215-8f63c41448fd
URL:https://touren-termine.adfc.de/radveranstaltung/142244-kaffeestunde
END:VEVENT
END:VCALENDAR
