BEGIN:VCALENDAR
PRODID:-//github.com/rianjs/ical.net//NONSGML ical.net 4.0//EN
VERSION:2.0
BEGIN:VEVENT
DESCRIPTION:Wir fahren zum Kunsthandwerkermarkt in Ahrenfeld. Auch Kaffee 
 und Kuchen wird angeboten.\nhttps://touren-termine.adfc.de/radveranstaltu
 ng/190475-salzhemmendorf-und-ahrenfeld-neuer-termin
DTEND:20260906T160000Z
DTSTAMP:20260423T105501Z
DTSTART:20260906T080000Z
LOCATION:Pfortmühle an der blauen Brücke\,\, 31785 Hameln
SEQUENCE:0
SUMMARY:Salzhemmendorf und Ahrenfeld\, neuer Termin!
UID:a83ac237-fef6-4c42-8b05-393c9765c1e8
URL:https://touren-termine.adfc.de/radveranstaltung/190475-salzhemmendorf-
 und-ahrenfeld-neuer-termin
END:VEVENT
END:VCALENDAR
