BEGIN:VCALENDAR
PRODID:-//github.com/rianjs/ical.net//NONSGML ical.net 4.0//EN
VERSION:2.0
BEGIN:VEVENT
DESCRIPTION:Der ADFC Neumarkt codiert Fahrräder am verkaufsoffenen Sonntag
  beim Peter Stadler.\nhttps://touren-termine.adfc.de/radveranstaltung/158
 654-fahrradcodierung-in-neumarkt
DTEND:20250413T143000Z
DTSTAMP:20260424T230905Z
DTSTART:20250413T110000Z
LOCATION:Dr. Otto-Schedl-Str. 9-11\, 92318 Neumarkt in der Oberpfalz
SEQUENCE:0
SUMMARY:Fahrradcodierung in Neumarkt
UID:cc7ab784-c40b-490d-a08a-d7342ffca6f7
URL:https://touren-termine.adfc.de/radveranstaltung/158654-fahrradcodierun
 g-in-neumarkt
END:VEVENT
END:VCALENDAR
