BEGIN:VCALENDAR
PRODID:-//github.com/rianjs/ical.net//NONSGML ical.net 4.0//EN
VERSION:2.0
BEGIN:VEVENT
DESCRIPTION:Für die bessere Planung ist eine Anmeldung bei Meike Wimmer (0
 172/2932020) erforderlich. Wir möchten gemeinsam schöne Stunden beim Tand
 emTag auf Gut Zülow verbringen.\nhttps://touren-termine.adfc.de/radverans
 taltung/196771-gemeinsam-unterwegs-inklusives-radfahren
DTEND:20260509T130000Z
DTSTAMP:20260421T102906Z
DTSTART:20260509T113000Z
LOCATION:Gut Zülow\, Nixhütter Weg\, beim Abstellbereich der Fahrräder\, 4
 1468 Neuss
SEQUENCE:0
SUMMARY:Gemeinsam unterwegs - Inklusives Radfahren
UID:19ac6a12-eabf-49ed-8471-545227a29f69
URL:https://touren-termine.adfc.de/radveranstaltung/196771-gemeinsam-unter
 wegs-inklusives-radfahren
END:VEVENT
END:VCALENDAR
