BEGIN:VCALENDAR
PRODID:-//github.com/rianjs/ical.net//NONSGML ical.net 4.0//EN
VERSION:2.0
BEGIN:VEVENT
DESCRIPTION:Wir radeln eine gemütliche Runde zu verschiedenen Zielen in de
 r Stadt und genießen dabei Hamburg-Flair\, Natur und Adfc-Geselligkeit.\n
 https://touren-termine.adfc.de/radveranstaltung/170122-wandsbeker-feierab
 endcruise
DTEND:20250828T180000Z
DTSTAMP:20260420T230514Z
DTSTART:20250828T163000Z
LOCATION:Vor der Kreuzkirche Kedenburgstraße 10\, 22041 Hamburg
SEQUENCE:0
SUMMARY:Wandsbeker Feierabendcruise
UID:d96cafaa-295c-4f1b-9285-62d74c59ced2
URL:https://touren-termine.adfc.de/radveranstaltung/170122-wandsbeker-feie
 rabendcruise
END:VEVENT
END:VCALENDAR
