BEGIN:VCALENDAR
PRODID:-//github.com/rianjs/ical.net//NONSGML ical.net 4.0//EN
VERSION:2.0
BEGIN:VEVENT
DESCRIPTION:Eine Tour für Pedelec und sehr sportliche FahrerInnen. Fast au
 sschließlich auf Asphalt. Mit 900 hm und 74 km. 10.45 Einstieg am Scheine
 rplatz möglich.\nEinkehr im Backhaus (Nachlademöglichkeit).\nhttps://tour
 en-termine.adfc.de/radveranstaltung/154810-durch-den-hohenhainer-tunnel-n
 ach-essinghausen
DTEND:20250201T160000Z
DTSTAMP:20260422T234436Z
DTSTART:20250201T090000Z
LOCATION:Marburgerstraße\, Roter Platz\, 57223 Kreuztal
SEQUENCE:0
SUMMARY:Durch den Hohenhainer Tunnel nach Essinghausen
UID:94195c45-0670-454c-946f-fd7fd84fc32d
URL:https://touren-termine.adfc.de/radveranstaltung/154810-durch-den-hohen
 hainer-tunnel-nach-essinghausen
END:VEVENT
END:VCALENDAR
