BEGIN:VCALENDAR
PRODID:-//github.com/rianjs/ical.net//NONSGML ical.net 4.0//EN
VERSION:2.0
BEGIN:VEVENT
DESCRIPTION:Monatliches Treffen aller Radverkehrs Interessenten\nhttps://t
 ouren-termine.adfc.de/radveranstaltung/114559-offentlicher-radlertreff
DTEND:20240227T200000Z
DTSTAMP:20260423T183752Z
DTSTART:20240227T180000Z
LOCATION:Gartenstraße 10\, 30938 Burgwedel
SEQUENCE:0
SUMMARY:Öffentlicher Radlertreff
UID:9d65fb9a-1c5c-4359-9c7e-023034f32d93
URL:https://touren-termine.adfc.de/radveranstaltung/114559-offentlicher-ra
 dlertreff
END:VEVENT
END:VCALENDAR
