BEGIN:VCALENDAR
PRODID:-//github.com/rianjs/ical.net//NONSGML ical.net 4.0//EN
VERSION:2.0
BEGIN:VEVENT
DESCRIPTION:Von Regensburg über Ramspau nach Kallmünz\, Jura- und Flusslan
 dschaften im Regen- und Naabtal\nhttps://touren-termine.adfc.de/radverans
 taltung/180667-fahrt-zum-blauen-kaffeeauto-nach-kallmunz
DTEND:20260712T150000Z
DTSTAMP:20260424T143747Z
DTSTART:20260712T080000Z
LOCATION:Hauptbahnhof Regensburg\, Bahnhofsvorplatz\, 93047 Regensburg
SEQUENCE:0
SUMMARY:Fahrt zum blauen Kaffeeauto nach Kallmünz
UID:0dc57995-0b62-4df4-b696-49472c1fd764
URL:https://touren-termine.adfc.de/radveranstaltung/180667-fahrt-zum-blaue
 n-kaffeeauto-nach-kallmunz
END:VEVENT
END:VCALENDAR
